Workbook

Sheet Overview
B3: Your Community Checklist
B5: Community Details | D5: Community Context
B6: Name | C6: enter the name of the community for this exercise | D6: Policy Priority | E6: enter policy priority
B7: Hosted by | C7: enter your organisation's and contractor details (if any) | D7: Mandate | E7: enter your mandate
B8: Maturity | D8: Community Reach
B10: Community Status
C11: 1. DEFINE | D11: 2. ESTABLISH | E11: 3. IMPLEMENT
B12: VISION | C12: =Checklists!C14 -> 0.5 | D12: =Checklists!D14 -> 0.1 | E12: =Checklists!E14 -> 0.15
B13: GOVERNANCE | C13: =Checklists!C26 -> 0.15 | D13: =Checklists!D26 -> 0.1 | E13: =Checklists!E26 -> 0.05
B14: LEADERSHIP | C14: =Checklists!C38 -> 0.25 | D14: =Checklists!D38 -> 0.1 | E14: =Checklists!E38 -> 0.1
B15: CONVENING | C15: =Checklists!C50 -> 0.1 | D15: =Checklists!D50 -> 0.1 | E15: =Checklists!E50 -> 0.1
B16: COLLABORATION | C16: =Checklists!C62 -> 0.1 | D16: =Checklists!D62 -> 0.1 | E16: =Checklists!E62 -> 0.1
B17: COMMUNITY MANAGEMENT | C17: =Checklists!C74 -> 0.1 | D17: =Checklists!D74 -> 0.1 | E17: =Checklists!E74 -> 0.1
B18: USER EXPERIENCE | C18: =Checklists!C86 -> 0.1 | D18: =Checklists!D86 -> 0.1 | E18: =Checklists!E86 -> 0.1
B19: MEASUREMENT | C19: =Checklists!C98 -> 0.1 | D19: =Checklists!D98 -> 0 | E19: =Checklists!E98 -> 0
B21: Community Competences
B22: Area | C22: Competence | D22: Definition | E22: Present in Team
B23: Policy & Practice Implementation | C23: Community Management | D23: engage diverse community members through various channels and techniques, enhancing participation and loyalty, while effectively managing diverse expectations and planning ecosystems | E23: available
C24: Participatory Facilitation | D24: design and host participatory processes across varying spaces & find consensus and mediate conflicts within the community, ensuring a respectful and inclusive environment as well as driving action | E24: missing
C25: Integrated Policy Engagement | D25: translate community dynamics into policy-relevant artefacts and understand how various policies, actors, and levels of engagement impact community operations, identifying integration opportunities and challenges | E25: available
B26: Organisational Leadership | C26: Strategic Planning and Foresight | D26: develop long-term policy and science strategies that align with the community’s goals and objectives | E26: missing
C27: Project Management | D27: oversee projects, manage timelines, and ensure milestones are met across different departments | E27: available
C28: Human Resources and Finances | D28: manage staff—including recruitment, training, and development—combined with skills in budgeting and financial planning to ensure continued community uptake | E28: missing
B29: Relations and Content Management | C29: Content Strategy and Editing | D29: plan and execute content strategies that engage the community and promote consistent interaction, supported by strong writing and editing skills to produce clear and compelling content based in knowledge management strategies
C30: Partners and Brand Management | D30: maintain and develop the community's brand identity and reputation, along with the ability to establish and curate relationships with external organizations, sponsors, and partners
C31: Multimedia Production | D31: produce video and audio material, run graphic design, and possibly design VR/AR content for more engaging experiences
B32: Platform Technologies | C32: Analytics and Reporting | D32: use and visualise analytics tools to track engagement, growth, and effectiveness of marketing strategies
C33: Web Development and Support | D33: apply web design principles for creating intuitive, user-friendly interfaces, along with maintaining and troubleshooting the community platform to ensure it remains accessible and functions properly
C34: Data Management and Security | D34: manage data securely, including understanding GDPR, and implementing security protocols to protect community data

Sheet Checklists
B5: VISION | C5: DEFINE | D5: ESTABLISH | E5: IMPLEMENT
C6: Raison d'être and community purpose | D6: SMART objectives aligned with community goals | E6: Reviews to update community vision and objectives to stay relevant
B7: Planning Priority Step | C7: 1 | D7: TBD | E7: TBD
B8: Deliverables | C8: Community charter | D8: Strategy document with max. 5 high-level objectives | E8: 5 minutes storytelling community pitch
B9: Actions | C9: Organise appreciative inquiry workshop to align | D9: Run strategy session to set achievable and relevant goals | E9: Conduct storytelling workshop and review meetings to reassess and update the community’s vision and objectives
B10: Run steps [x] in Community Playbook Board [y] | C10: 1-4, Vision, p. 39 | D10: 5-7, Vision, p. 39 | E10: 8, Vision, p. 39
B11: Roles in the Room | C11: Community Sponsors, Community Managers, Founding core group members | D11: Community Sponsors, Community Managers, Founding core group members | E11: Community Sponsors, Community Managers, Founding core group members
B12: Needed Competences | C12: Strategic Planning and Foresight, Integrated Policy Engagement, Participatory Facilitation, Content Strategy and Editing | D12: Project Management, Human Resources and Finances, Strategic Planning and Foresight | E12: Brand Management and Partners, Content Strategy and Editing, Multimedia Production
B13: Expected effort (FTE%) | E13: Bi-annual meetings
B14: Status (%) | C14: 0.5 | D14: 0.1 | E14: 0.15
B15: Space for Comments
B17: GOVERNANCE | C17: DEFINE | D17: ESTABLISH | E17: IMPLEMENT
C18: Stakeholder map and community ecosystem | D18: Transparent and inclusive community decision-making processes | E18: Risk-free communication and collaboration mechanisms among community members and stakeholders
B19: Planning Priority Step | C19: 2 | D19: TBD | E19: TBD
B20: Deliverables | C20: RAPID stakeholder map | D20: Explicit terms of reference | E20: Community participation guidelines/ etiquette
B21: Actions | C21: Select and assess stakeholders for the responsibility assignment matrix | D21: Develop a clear, flexible, inclusive and fair community operational model | E21: Meet with members to establish connections to encourage learning by doing without risk of failing
B22: Run steps [x] in Community Playbook Board [y] | C22: 1-4, Governance, p. 49 | D22: 5-8, Governance, p. 49 | E22: 9-12, Governance, p. 49
B23: Roles in the Room | C23: Community Managers, Founding core group members | D23: Community Managers, Core group members | E23: Community Managers, Community members
B24: Needed Competences | C24: Human Resources and Finances, Strategic Planning and Foresight, Brand Management and Partners | D24: Project Management, Community Management, Content Strategy and Editing | E24: Community Management, Content Strategy and Editing, Multimedia Production
B25: Expected effort (FTE %) | E25: Monthly checks
B26: Status (%) | C26: 0.15 | D26: 0.1 | E26: 0.05
B27: Space for Comments
B29: LEADERSHIP | C29: DEFINE | D29: ESTABLISH | E29: IMPLEMENT
C30: Leadership and sponsorship roles and responsibilities | D30: Who needs to be in the core group and set expectations | E30: Strong leadership and sponsorship participation and feedback mechanisms
B31: Planning Priority Step | C31: 3 | D31: TBD | E31: TBD
B32: Deliverables | C32: Leadership roles and responsibilities agreements | D32: Core group mandate | E32: Leadership feedback dashboards, reports, surveys
B33: Actions | C33: Define and assign driver, promoter, investor roles and secure their buy-in | D33: Identify core group members and define expectations | E33: Implement leadership check-ins to collect feedback on vision through metrics
B34: Run steps [x] in Community Playbook Board [y] | C34: 1-3, Leadership, p. 58 | D34: 4-6, Leadership, p. 58 | E34: 5, Leadership, p. 58
B35: Roles in the Room | C35: Community Sponsors, Community Managers | D35: Community Managers, Core group members | E35: Community Sponsors, Community Managers
B36: Needed Competences | C36: Project Management, Human Resources and Finances, Brand Management and Partners, Community Management | D36: Project Management, Participatory Facilitation, Community Management | E36: Strategic Planning and Foresight, Community Management, Analytics and Reporting
B37: Expected effort (FTE %) | E37: Bi-monthly checks
B38: Status (%) | C38: 0.25 | D38: 0.1 | E38: 0.1
B39: Space for Comments
B41: CONVENING | C41: DEFINE | D41: ESTABLISH | E41: IMPLEMENT
C42: Convening formats based on the community's preferences | D42: Convening opportunities for the community | E42: Boundary-spanning community gatherings to facilitate networking and knowledge sharing
B43: Planning Priority Step | C43: 4 | D43: TBD | E43: TBD
B44: Deliverables | C44: Convening strategy | D44: Event calendar and participant guidelines | E44: Community testimonials and inspiring focus sessions
B45: Actions | C45: Survey members to identify preferred formats and frequencies for conversation, connection, and communication | D45: Plan and schedule regular and special events aligned with agreed community learning goals | E45: Organise cross-functional and cross-community events
B46: Run steps [x] in Community Playbook Board [y] | C46: 1-2, Convening, p. 65 | D46: 3-5, Convening, p. 65 | E46: 6, Convening, p. 65
B47: Roles in the Room | C47: Community Managers, Community members | D47: Community Managers, Core group members | E47: Community Managers
...

Sheet Prioritisation
A1: Planned Deliverable | B1: Priority Order
A2: Community charter | B2: =Checklists!C7 -> 1
A3: RAPID stakeholder map | B3: =Checklists!C19 -> 2
A4: Leadership roles and responsibilities agreements | B4: =Checklists!C31 -> 3
A5: Convening strategy | B5: =Checklists!C43 -> 4
A6: Collaboration and cooperation roadmap | B6: =Checklists!C55 -> 5
A7: Strategy document with max. 5 high-level objectives | B7: =Checklists!D7 -> TBD
A8: 5 minutes storytelling community pitch | B8: =Checklists!E7 -> TBD
A9: Explicit terms of reference | B9: =Checklists!D19 -> TBD
A10: Community participation guidelines/ etiquette | B10: =Checklists!E19 -> TBD
A11: Core group mandate | B11: =Checklists!D31 -> TBD
A12: Leadership feedback dashboards, reports, surveys | B12: =Checklists!E31 -> TBD
A13: Event calendar and participant guidelines | B13: =Checklists!D43 -> TBD
A14: Community testimonials and inspiring focus sessions | B14: =Checklists!E43 -> TBD
A15: Collaboration guidelines, templates, and toolkits | B15: =Checklists!D55 -> TBD
A16: Community recognition programme | B16: =Checklists!E55 -> TBD
A17: Engagement strategy and community manager role | B17: =Checklists!C67 -> TBD
A18: Engagement roadmap | B18: =Checklists!D67 -> TBD
A19: Facilitation plan | B19: =Checklists!E67 -> TBD
A20: Community personas mapping | B20: =Checklists!C79 -> TBD
A21: (Digital) Platform setup and events infrastructure | B21: =Checklists!D79 -> TBD
A22: User experience feedback system | B22: =Checklists!E79 -> TBD
A23: Evaluation criteria, metrics and KPIs | B23: =Checklists!C91 -> TBD
A24: Community stock-taking report | B24: =Checklists!D91 -> TBD
A25: Evaluation and satisfaction focus groups, surveys, trend interviews | B25: =Checklists!E91 -> TBD

Sheet dropdown lists
B2: status
B3: not started
B4: in progress
B5: finished
B7: competences
B8: available
B9: missing
B11: maturity
B12: not yet existing community
B13: emerging community
B14: existing structured community
B15: sleeping community
... B21: mixed internal/external
